Package: GenomicFiles Version: 1.43.0 Command: /home/biocbuild/bbs-3.21-bioc/R/bin/R CMD build --keep-empty-dirs --no-resave-data GenomicFiles StartedAt: 2025-02-09 17:22:36 -0500 (Sun, 09 Feb 2025) EndedAt: 2025-02-09 17:23:48 -0500 (Sun, 09 Feb 2025) EllapsedTime: 72.1 seconds RetCode: 0 Status: OK PackageFile: GenomicFiles_1.43.0.tar.gz PackageFileSize: 712.5 KiB