Package: GenomicFiles Version: 1.43.0 Command: chmod a+r GenomicFiles -R && E:\biocbuild\bbs-3.21-bioc\R\bin\R.exe CMD build --keep-empty-dirs --no-resave-data GenomicFiles StartedAt: 2025-02-09 18:53:47 -0500 (Sun, 09 Feb 2025) EndedAt: 2025-02-09 18:57:18 -0500 (Sun, 09 Feb 2025) EllapsedTime: 210.3 seconds RetCode: 0 Status: OK PackageFile: GenomicFiles_1.43.0.tar.gz PackageFileSize: 712.8 KiB