Package: GenomicFiles Version: 1.43.0 Command: E:\biocbuild\bbs-3.21-bioc\R\bin\R.exe CMD INSTALL GenomicFiles StartedAt: 2025-02-04 16:10:09 -0500 (Tue, 04 Feb 2025) EndedAt: 2025-02-04 16:11:23 -0500 (Tue, 04 Feb 2025) EllapsedTime: 73.9 seconds RetCode: 0 Status: OK