Package: GenomicInteractions Version: 1.41.0 Maintainer: Liz Ing-Simmons MaintainerEmail: liz.ingsimmons at gmail.com git_url: https://git.bioconductor.org/packages/GenomicInteractions git_branch: devel git_last_commit: c7d2904 git_last_commit_date: 2024-10-29 09:55:02 -0500 (Tue, 29 Oct 2024)