Package: GenomicInteractions Version: 1.41.0 Command: /Library/Frameworks/R.framework/Resources/bin/R CMD build --keep-empty-dirs --no-resave-data GenomicInteractions StartedAt: 2025-02-09 16:25:33 -0500 (Sun, 09 Feb 2025) EndedAt: 2025-02-09 16:26:40 -0500 (Sun, 09 Feb 2025) EllapsedTime: 66.8 seconds RetCode: 0 Status: OK PackageFile: GenomicInteractions_1.41.0.tar.gz PackageFileSize: 3.507 MiB