Package: GenomicInteractions Version: 1.41.0 Command: /Library/Frameworks/R.framework/Resources/bin/R CMD INSTALL GenomicInteractions StartedAt: 2025-02-09 15:28:22 -0500 (Sun, 09 Feb 2025) EndedAt: 2025-02-09 15:30:16 -0500 (Sun, 09 Feb 2025) EllapsedTime: 114.3 seconds RetCode: 0 Status: OK