Package: GenomicInteractions Version: 1.41.0 Command: /home/biocbuild/bbs-3.21-bioc/R/bin/R CMD build --keep-empty-dirs --no-resave-data GenomicInteractions StartedAt: 2025-02-12 17:19:49 -0500 (Wed, 12 Feb 2025) EndedAt: 2025-02-12 17:23:01 -0500 (Wed, 12 Feb 2025) EllapsedTime: 192.2 seconds RetCode: 0 Status: OK PackageFile: GenomicInteractions_1.41.0.tar.gz PackageFileSize: 3.456 MiB