Package: GenomicInteractions Version: 1.41.0 Command: chmod a+r GenomicInteractions -R && E:\biocbuild\bbs-3.21-bioc\R\bin\R.exe CMD build --keep-empty-dirs --no-resave-data GenomicInteractions StartedAt: 2025-02-09 18:54:20 -0500 (Sun, 09 Feb 2025) EndedAt: 2025-02-09 18:58:39 -0500 (Sun, 09 Feb 2025) EllapsedTime: 259.2 seconds RetCode: 0 Status: OK PackageFile: GenomicInteractions_1.41.0.tar.gz PackageFileSize: 3.283 MiB