Package: GenomicOZone Version: 1.21.0 Command: /Library/Frameworks/R.framework/Resources/bin/R CMD INSTALL GenomicOZone StartedAt: 2025-02-09 15:29:59 -0500 (Sun, 09 Feb 2025) EndedAt: 2025-02-09 15:31:28 -0500 (Sun, 09 Feb 2025) EllapsedTime: 89.6 seconds RetCode: 0 Status: OK