Package: GenomicOZone Version: 1.21.0 Command: chmod a+r GenomicOZone -R && E:\biocbuild\bbs-3.21-bioc\R\bin\R.exe CMD build --keep-empty-dirs --no-resave-data GenomicOZone StartedAt: 2025-02-09 18:54:23 -0500 (Sun, 09 Feb 2025) EndedAt: 2025-02-09 18:56:59 -0500 (Sun, 09 Feb 2025) EllapsedTime: 156.3 seconds RetCode: 0 Status: OK PackageFile: GenomicOZone_1.21.0.tar.gz PackageFileSize: 1.271 MiB