Package: GenomicPlot Version: 1.5.3 Command: /Library/Frameworks/R.framework/Resources/bin/R CMD build --keep-empty-dirs --no-resave-data GenomicPlot StartedAt: 2025-02-09 16:25:42 -0500 (Sun, 09 Feb 2025) EndedAt: 2025-02-09 16:26:37 -0500 (Sun, 09 Feb 2025) EllapsedTime: 54.7 seconds RetCode: 0 Status: OK PackageFile: GenomicPlot_1.5.3.tar.gz PackageFileSize: 4.096 MiB