Package: GenomicPlot Version: 1.5.3 Command: rm -rf GenomicPlot.buildbin-libdir && mkdir GenomicPlot.buildbin-libdir && /Users/biocbuild/BBS/utils/build-universal.sh GenomicPlot_1.5.3.tar.gz /Library/Frameworks/R.framework/Resources/bin/R GenomicPlot.buildbin-libdir StartedAt: 2025-02-05 00:41:37 -0500 (Wed, 05 Feb 2025) EndedAt: 2025-02-05 00:42:49 -0500 (Wed, 05 Feb 2025) EllapsedTime: 71.7 seconds RetCode: 0 Status: OK PackageFile: GenomicPlot_1.5.3.tgz PackageFileSize: 4.236 MiB