Package: GenomicPlot Version: 1.5.3 Command: /Library/Frameworks/R.framework/Resources/bin/R CMD build --keep-empty-dirs --no-resave-data GenomicPlot StartedAt: 2025-02-04 16:49:40 -0500 (Tue, 04 Feb 2025) EndedAt: 2025-02-04 16:52:27 -0500 (Tue, 04 Feb 2025) EllapsedTime: 167.4 seconds RetCode: 0 Status: OK PackageFile: GenomicPlot_1.5.3.tar.gz PackageFileSize: 4.092 MiB