Package: GenomicPlot Version: 1.5.3 Command: /Library/Frameworks/R.framework/Resources/bin/R CMD INSTALL GenomicPlot StartedAt: 2025-02-09 15:43:33 -0500 (Sun, 09 Feb 2025) EndedAt: 2025-02-09 15:44:42 -0500 (Sun, 09 Feb 2025) EllapsedTime: 69.5 seconds RetCode: 0 Status: OK