Package: GenomicPlot Version: 1.5.3 Command: /home/biocbuild/bbs-3.21-bioc/R/bin/R CMD check --install=check:GenomicPlot.install-out.txt --library=/home/biocbuild/bbs-3.21-bioc/R/site-library --timings GenomicPlot_1.5.3.tar.gz StartedAt: 2025-02-09 22:36:59 -0500 (Sun, 09 Feb 2025) EndedAt: 2025-02-09 22:49:15 -0500 (Sun, 09 Feb 2025) EllapsedTime: 736.0 seconds RetCode: 0 Status: OK CheckDir: GenomicPlot.Rcheck Warnings: 0