Package: GenomicPlot Version: 1.5.3 Command: rm -rf GenomicPlot.buildbin-libdir && mkdir GenomicPlot.buildbin-libdir && E:\biocbuild\bbs-3.21-bioc\R\bin\R.exe CMD INSTALL --build --library=GenomicPlot.buildbin-libdir GenomicPlot_1.5.3.tar.gz StartedAt: 2025-02-04 08:03:05 -0500 (Tue, 04 Feb 2025) EndedAt: 2025-02-04 08:04:10 -0500 (Tue, 04 Feb 2025) EllapsedTime: 65.9 seconds RetCode: 0 Status: OK PackageFile: GenomicPlot_1.5.3.zip PackageFileSize: 1.912 MiB