Package: GenomicPlot Version: 1.5.3 Command: chmod a+r GenomicPlot -R && E:\biocbuild\bbs-3.21-bioc\R\bin\R.exe CMD build --keep-empty-dirs --no-resave-data GenomicPlot StartedAt: 2025-02-09 18:54:27 -0500 (Sun, 09 Feb 2025) EndedAt: 2025-02-09 19:02:02 -0500 (Sun, 09 Feb 2025) EllapsedTime: 455.6 seconds RetCode: 0 Status: OK PackageFile: GenomicPlot_1.5.3.tar.gz PackageFileSize: 1.766 MiB