Package: GenomicPlot Version: 1.5.3 Command: E:\biocbuild\bbs-3.21-bioc\R\bin\R.exe CMD check --no-multiarch --install=check:GenomicPlot.install-out.txt --library=E:\biocbuild\bbs-3.21-bioc\R\library --no-vignettes --timings GenomicPlot_1.5.3.tar.gz StartedAt: 2025-02-04 01:53:48 -0500 (Tue, 04 Feb 2025) EndedAt: 2025-02-04 02:32:27 -0500 (Tue, 04 Feb 2025) EllapsedTime: 2319.0 seconds RetCode: 0 Status: OK CheckDir: GenomicPlot.Rcheck Warnings: 0