Package: GenomicPlot Version: 1.5.3 Command: E:\biocbuild\bbs-3.21-bioc\R\bin\R.exe CMD INSTALL GenomicPlot StartedAt: 2025-02-09 16:37:28 -0500 (Sun, 09 Feb 2025) EndedAt: 2025-02-09 16:38:46 -0500 (Sun, 09 Feb 2025) EllapsedTime: 77.2 seconds RetCode: 0 Status: OK