Package: GenomicRanges Version: 1.59.1 Command: rm -rf GenomicRanges.buildbin-libdir && mkdir GenomicRanges.buildbin-libdir && /Users/biocbuild/BBS/utils/build-universal.sh GenomicRanges_1.59.1.tar.gz /Library/Frameworks/R.framework/Resources/bin/R GenomicRanges.buildbin-libdir StartedAt: 2025-02-10 00:55:14 -0500 (Mon, 10 Feb 2025) EndedAt: 2025-02-10 00:55:50 -0500 (Mon, 10 Feb 2025) EllapsedTime: 35.6 seconds RetCode: 0 Status: OK PackageFile: GenomicRanges_1.59.1.tgz PackageFileSize: 2.289 MiB