Package: GenomicRanges Version: 1.59.1 Command: /Library/Frameworks/R.framework/Resources/bin/R CMD build --keep-empty-dirs --no-resave-data GenomicRanges StartedAt: 2025-02-04 16:49:43 -0500 (Tue, 04 Feb 2025) EndedAt: 2025-02-04 16:53:26 -0500 (Tue, 04 Feb 2025) EllapsedTime: 223.3 seconds RetCode: 0 Status: OK PackageFile: GenomicRanges_1.59.1.tar.gz PackageFileSize: 1.303 MiB