Package: GenomicRanges Version: 1.59.1 Command: /Library/Frameworks/R.framework/Resources/bin/R CMD INSTALL GenomicRanges StartedAt: 2025-02-09 15:08:52 -0500 (Sun, 09 Feb 2025) EndedAt: 2025-02-09 15:09:18 -0500 (Sun, 09 Feb 2025) EllapsedTime: 26.5 seconds RetCode: 0 Status: OK