Package: GenomicRanges Version: 1.59.1 Command: /home/biocbuild/bbs-3.21-bioc/R/bin/R CMD check --install=check:GenomicRanges.install-out.txt --library=/home/biocbuild/bbs-3.21-bioc/R/site-library --timings GenomicRanges_1.59.1.tar.gz StartedAt: 2025-02-04 22:36:53 -0500 (Tue, 04 Feb 2025) EndedAt: 2025-02-04 22:44:12 -0500 (Tue, 04 Feb 2025) EllapsedTime: 438.5 seconds RetCode: 0 Status: OK CheckDir: GenomicRanges.Rcheck Warnings: 0