Package: GenomicRanges Version: 1.59.1 Command: /home/biocbuild/bbs-3.21-bioc/R/bin/R CMD INSTALL GenomicRanges StartedAt: 2025-02-09 15:14:34 -0500 (Sun, 09 Feb 2025) EndedAt: 2025-02-09 15:14:55 -0500 (Sun, 09 Feb 2025) EllapsedTime: 20.7 seconds RetCode: 0 Status: OK