Package: GenomicScores Version: 2.19.1 Command: /Library/Frameworks/R.framework/Resources/bin/R CMD build --keep-empty-dirs --no-resave-data GenomicScores StartedAt: 2025-02-09 16:25:48 -0500 (Sun, 09 Feb 2025) EndedAt: 2025-02-09 16:26:39 -0500 (Sun, 09 Feb 2025) EllapsedTime: 50.6 seconds RetCode: 0 Status: OK PackageFile: GenomicScores_2.19.1.tar.gz PackageFileSize: 1.638 MiB