Package: GenomicScores Version: 2.19.1 Command: /Library/Frameworks/R.framework/Resources/bin/R CMD check --install=check:GenomicScores.install-out.txt --library=/Library/Frameworks/R.framework/Resources/library --no-vignettes --timings GenomicScores_2.19.1.tar.gz StartedAt: 2025-02-09 19:24:07 -0500 (Sun, 09 Feb 2025) EndedAt: 2025-02-09 19:25:40 -0500 (Sun, 09 Feb 2025) EllapsedTime: 93.0 seconds RetCode: 0 Status: OK CheckDir: GenomicScores.Rcheck Warnings: 0