Package: GenomicScores Version: 2.19.1 Command: /Library/Frameworks/R.framework/Resources/bin/R CMD INSTALL GenomicScores StartedAt: 2025-02-09 15:08:51 -0500 (Sun, 09 Feb 2025) EndedAt: 2025-02-09 15:09:03 -0500 (Sun, 09 Feb 2025) EllapsedTime: 12.6 seconds RetCode: 0 Status: OK