Package: GenomicScores Version: 2.19.1 Command: /Library/Frameworks/R.framework/Resources/bin/R CMD INSTALL GenomicScores StartedAt: 2025-02-12 15:15:20 -0500 (Wed, 12 Feb 2025) EndedAt: 2025-02-12 15:16:01 -0500 (Wed, 12 Feb 2025) EllapsedTime: 41.5 seconds RetCode: 0 Status: OK