Package: GenomicScores Version: 2.19.1 Command: /home/biocbuild/bbs-3.21-bioc/R/bin/R CMD check --install=check:GenomicScores.install-out.txt --library=/home/biocbuild/bbs-3.21-bioc/R/site-library --timings GenomicScores_2.19.1.tar.gz StartedAt: 2025-02-12 22:38:30 -0500 (Wed, 12 Feb 2025) EndedAt: 2025-02-12 22:43:57 -0500 (Wed, 12 Feb 2025) EllapsedTime: 327.3 seconds RetCode: 0 Status: OK CheckDir: GenomicScores.Rcheck Warnings: 0