Package: GenomicScores Version: 2.19.1 Command: chmod a+r GenomicScores -R && E:\biocbuild\bbs-3.21-bioc\R\bin\R.exe CMD build --keep-empty-dirs --no-resave-data GenomicScores StartedAt: 2025-02-09 18:55:23 -0500 (Sun, 09 Feb 2025) EndedAt: 2025-02-09 18:58:56 -0500 (Sun, 09 Feb 2025) EllapsedTime: 212.4 seconds RetCode: 0 Status: OK PackageFile: GenomicScores_2.19.1.tar.gz PackageFileSize: 1.284 MiB