Package: GenomicTuples Version: 1.41.1 Command: rm -rf GenomicTuples.buildbin-libdir && mkdir GenomicTuples.buildbin-libdir && /Users/biocbuild/BBS/utils/build-universal.sh GenomicTuples_1.41.1.tar.gz /Library/Frameworks/R.framework/Resources/bin/R GenomicTuples.buildbin-libdir StartedAt: 2025-02-09 22:15:50 -0500 (Sun, 09 Feb 2025) EndedAt: 2025-02-09 22:16:01 -0500 (Sun, 09 Feb 2025) EllapsedTime: 11.2 seconds RetCode: 0 Status: OK PackageFile: GenomicTuples_1.41.1.tgz PackageFileSize: 903.2 KiB