Package: GenomicTuples Version: 1.41.1 Command: /Library/Frameworks/R.framework/Resources/bin/R CMD check --install=check:GenomicTuples.install-out.txt --library=/Library/Frameworks/R.framework/Resources/library --no-vignettes --timings GenomicTuples_1.41.1.tar.gz StartedAt: 2025-02-09 19:25:05 -0500 (Sun, 09 Feb 2025) EndedAt: 2025-02-09 19:25:50 -0500 (Sun, 09 Feb 2025) EllapsedTime: 44.6 seconds RetCode: 0 Status: OK CheckDir: GenomicTuples.Rcheck Warnings: 0