Package: GenomicTuples Version: 1.41.1 Command: /Library/Frameworks/R.framework/Resources/bin/R CMD INSTALL GenomicTuples StartedAt: 2025-02-12 15:04:04 -0500 (Wed, 12 Feb 2025) EndedAt: 2025-02-12 15:04:13 -0500 (Wed, 12 Feb 2025) EllapsedTime: 9.5 seconds RetCode: 0 Status: OK