Package: GenomicTuples Version: 1.41.1 Command: rm -rf GenomicTuples.buildbin-libdir && mkdir GenomicTuples.buildbin-libdir && E:\biocbuild\bbs-3.21-bioc\R\bin\R.exe CMD INSTALL --build --library=GenomicTuples.buildbin-libdir GenomicTuples_1.41.1.tar.gz StartedAt: 2025-02-10 07:50:01 -0500 (Mon, 10 Feb 2025) EndedAt: 2025-02-10 07:51:12 -0500 (Mon, 10 Feb 2025) EllapsedTime: 70.3 seconds RetCode: 0 Status: OK PackageFile: GenomicTuples_1.41.1.zip PackageFileSize: 1.186 MiB