Package: GeoTcgaData Version: 2.7.0 Command: /Library/Frameworks/R.framework/Resources/bin/R CMD check --install=check:GeoTcgaData.install-out.txt --library=/Library/Frameworks/R.framework/Resources/library --no-vignettes --timings GeoTcgaData_2.7.0.tar.gz StartedAt: 2025-02-09 19:26:07 -0500 (Sun, 09 Feb 2025) EndedAt: 2025-02-09 19:27:33 -0500 (Sun, 09 Feb 2025) EllapsedTime: 85.9 seconds RetCode: 0 Status: OK CheckDir: GeoTcgaData.Rcheck Warnings: 0