Package: GeoTcgaData Version: 2.7.0 Command: /home/biocbuild/R/R/bin/R CMD build --keep-empty-dirs --no-resave-data GeoTcgaData StartedAt: 2025-01-28 23:10:29 -0000 (Tue, 28 Jan 2025) EndedAt: 2025-01-28 23:11:59 -0000 (Tue, 28 Jan 2025) EllapsedTime: 90.0 seconds RetCode: 0 Status: OK PackageFile: GeoTcgaData_2.7.0.tar.gz PackageFileSize: 3.319 MiB