Package: GeoTcgaData Version: 2.7.0 Command: E:\biocbuild\bbs-3.21-bioc\R\bin\R.exe CMD check --no-multiarch --install=check:GeoTcgaData.install-out.txt --library=E:\biocbuild\bbs-3.21-bioc\R\library --no-vignettes --timings GeoTcgaData_2.7.0.tar.gz StartedAt: 2025-02-10 01:31:39 -0500 (Mon, 10 Feb 2025) EndedAt: 2025-02-10 01:36:11 -0500 (Mon, 10 Feb 2025) EllapsedTime: 271.3 seconds RetCode: 0 Status: OK CheckDir: GeoTcgaData.Rcheck Warnings: 0