Package: GeomxTools Version: 3.11.0 Command: /Library/Frameworks/R.framework/Resources/bin/R CMD build --keep-empty-dirs --no-resave-data GeomxTools StartedAt: 2025-02-09 16:26:45 -0500 (Sun, 09 Feb 2025) EndedAt: 2025-02-09 16:29:00 -0500 (Sun, 09 Feb 2025) EllapsedTime: 134.4 seconds RetCode: 0 Status: OK PackageFile: GeomxTools_3.11.0.tar.gz PackageFileSize: 16.99 MiB