Package: GeomxTools Version: 3.11.0 Command: /Library/Frameworks/R.framework/Resources/bin/R CMD INSTALL GeomxTools StartedAt: 2025-02-12 15:15:21 -0500 (Wed, 12 Feb 2025) EndedAt: 2025-02-12 15:15:32 -0500 (Wed, 12 Feb 2025) EllapsedTime: 11.2 seconds RetCode: 0 Status: OK