Package: GeomxTools Version: 3.11.0 Command: /home/biocbuild/R/R/bin/R CMD build --keep-empty-dirs --no-resave-data GeomxTools StartedAt: 2025-01-28 23:10:02 -0000 (Tue, 28 Jan 2025) EndedAt: 2025-01-28 23:19:05 -0000 (Tue, 28 Jan 2025) EllapsedTime: 543.2 seconds RetCode: 0 Status: OK PackageFile: GeomxTools_3.11.0.tar.gz PackageFileSize: 14.23 MiB