Package: GeomxTools Version: 3.11.0 Command: /home/biocbuild/R/R/bin/R CMD check --install=check:GeomxTools.install-out.txt --library=/home/biocbuild/R/R/site-library --no-vignettes --timings GeomxTools_3.11.0.tar.gz StartedAt: 2025-01-28 11:01:59 -0000 (Tue, 28 Jan 2025) EndedAt: 2025-01-28 11:27:13 -0000 (Tue, 28 Jan 2025) EllapsedTime: 1514.2 seconds RetCode: 0 Status: OK CheckDir: GeomxTools.Rcheck Warnings: 0