Package: GeomxTools Version: 3.11.0 Command: /Library/Frameworks/R.framework/Resources/bin/R CMD check --install=check:GeomxTools.install-out.txt --library=/Library/Frameworks/R.framework/Resources/library --no-vignettes --timings GeomxTools_3.11.0.tar.gz StartedAt: 2025-02-09 20:58:38 -0500 (Sun, 09 Feb 2025) EndedAt: 2025-02-09 21:23:17 -0500 (Sun, 09 Feb 2025) EllapsedTime: 1479.6 seconds RetCode: 0 Status: OK CheckDir: GeomxTools.Rcheck Warnings: 0