Package: GeomxTools Version: 3.11.0 Command: /home/biocbuild/bbs-3.21-bioc/R/bin/R CMD build --keep-empty-dirs --no-resave-data GeomxTools StartedAt: 2025-02-04 17:22:08 -0500 (Tue, 04 Feb 2025) EndedAt: 2025-02-04 17:28:13 -0500 (Tue, 04 Feb 2025) EllapsedTime: 364.4 seconds RetCode: 0 Status: OK PackageFile: GeomxTools_3.11.0.tar.gz PackageFileSize: 15.58 MiB