Package: GeomxTools Version: 3.11.0 Command: E:\biocbuild\bbs-3.21-bioc\R\bin\R.exe CMD INSTALL GeomxTools StartedAt: 2025-02-09 15:42:33 -0500 (Sun, 09 Feb 2025) EndedAt: 2025-02-09 15:44:29 -0500 (Sun, 09 Feb 2025) EllapsedTime: 116.7 seconds RetCode: 0 Status: OK