Package: GladiaTOX Version: 1.23.0 Maintainer: PMP S.A. R Support MaintainerEmail: DL.RSupport at pmi.com git_url: https://git.bioconductor.org/packages/GladiaTOX git_branch: devel git_last_commit: c12ce38 git_last_commit_date: 2024-10-29 10:37:34 -0500 (Tue, 29 Oct 2024)