Package: GladiaTOX Version: 1.23.0 Command: rm -rf GladiaTOX.buildbin-libdir && mkdir GladiaTOX.buildbin-libdir && /Users/biocbuild/BBS/utils/build-universal.sh GladiaTOX_1.23.0.tar.gz /Library/Frameworks/R.framework/Resources/bin/R GladiaTOX.buildbin-libdir StartedAt: 2025-02-09 22:16:16 -0500 (Sun, 09 Feb 2025) EndedAt: 2025-02-09 22:16:23 -0500 (Sun, 09 Feb 2025) EllapsedTime: 6.1 seconds RetCode: 0 Status: OK PackageFile: GladiaTOX_1.23.0.tgz PackageFileSize: 4.2 MiB