Package: GladiaTOX Version: 1.23.0 Command: /Library/Frameworks/R.framework/Resources/bin/R CMD check --install=check:GladiaTOX.install-out.txt --library=/Library/Frameworks/R.framework/Resources/library --no-vignettes --timings GladiaTOX_1.23.0.tar.gz StartedAt: 2025-02-09 19:28:35 -0500 (Sun, 09 Feb 2025) EndedAt: 2025-02-09 19:29:18 -0500 (Sun, 09 Feb 2025) EllapsedTime: 43.5 seconds RetCode: 0 Status: OK CheckDir: GladiaTOX.Rcheck Warnings: 0