Package: GladiaTOX Version: 1.23.0 Command: /home/biocbuild/R/R/bin/R CMD build --keep-empty-dirs --no-resave-data GladiaTOX StartedAt: 2025-01-28 23:14:20 -0000 (Tue, 28 Jan 2025) EndedAt: 2025-01-28 23:39:30 -0000 (Tue, 28 Jan 2025) EllapsedTime: 1510.5 seconds RetCode: 0 Status: OK PackageFile: GladiaTOX_1.23.0.tar.gz PackageFileSize: 2.971 MiB