Package: GladiaTOX Version: 1.23.0 Command: /home/biocbuild/R/R/bin/R CMD INSTALL GladiaTOX StartedAt: 2025-01-29 19:44:15 -0000 (Wed, 29 Jan 2025) EndedAt: 2025-01-29 19:44:30 -0000 (Wed, 29 Jan 2025) EllapsedTime: 15.2 seconds RetCode: 0 Status: OK