Package: GladiaTOX Version: 1.23.0 Command: /home/biocbuild/bbs-3.21-bioc/R/bin/R CMD build --keep-empty-dirs --no-resave-data GladiaTOX StartedAt: 2025-02-04 17:24:41 -0500 (Tue, 04 Feb 2025) EndedAt: 2025-02-04 17:28:21 -0500 (Tue, 04 Feb 2025) EllapsedTime: 219.2 seconds RetCode: 0 Status: OK PackageFile: GladiaTOX_1.23.0.tar.gz PackageFileSize: 3.961 MiB